BEGIN:VCALENDAR
VERSION:2.0
PRODID:-//Municipalité de Lépaud - ECPv4.4.5//NONSGML v1.0//EN
CALSCALE:GREGORIAN
METHOD:PUBLISH
X-WR-CALNAME:Municipalité de Lépaud
X-ORIGINAL-URL:http://www.lepaud.fr
X-WR-CALDESC:Events for Municipalité de Lépaud
BEGIN:VEVENT
DTSTART;TZID=UTC+1:20230324T193000
DTEND;TZID=UTC+1:20230324T203000
DTSTAMP:20260426T034730
CREATED:20230320T101640Z
LAST-MODIFIED:20230320T101640Z
UID:14230-1679686200-1679689800@www.lepaud.fr
SUMMARY:Assemblée Générale du Solex RC Lépaud
DESCRIPTION:
URL:http://www.lepaud.fr/agenda/assemblee-generale-du-solex-rc-lepaud/
LOCATION:11 Grand'rue\, Lépaud\, 23170\, France
CATEGORIES:Assemblée Générale
ORGANIZER;CN="Solex%20RC%20L%C3%A9paud":MAILTO:solexrclepaud@laposte.net
END:VEVENT
END:VCALENDAR