BEGIN:VCALENDAR
VERSION:2.0
PRODID:-//Municipalité de Lépaud - ECPv4.4.5//NONSGML v1.0//EN
CALSCALE:GREGORIAN
METHOD:PUBLISH
X-WR-CALNAME:Municipalité de Lépaud
X-ORIGINAL-URL:http://www.lepaud.fr
X-WR-CALDESC:Events for Municipalité de Lépaud
BEGIN:VEVENT
DTSTART;TZID=UTC+1:20230319T143000
DTEND;TZID=UTC+1:20230319T190000
DTSTAMP:20260426T021821
CREATED:20230302T081411Z
LAST-MODIFIED:20230302T081600Z
UID:14208-1679236200-1679252400@www.lepaud.fr
SUMMARY:Concours de Belote
DESCRIPTION:Concours de Belote\, dimanche 19 mars 2023 à 14h30 chez Sylvie à La Broc'antine à LEPAUD
URL:http://www.lepaud.fr/agenda/concours-de-belote-4/
CATEGORIES:Manifestation
END:VEVENT
END:VCALENDAR