BEGIN:VCALENDAR
VERSION:2.0
PRODID:-//Municipalité de Lépaud - ECPv4.4.5//NONSGML v1.0//EN
CALSCALE:GREGORIAN
METHOD:PUBLISH
X-WR-CALNAME:Municipalité de Lépaud
X-ORIGINAL-URL:http://www.lepaud.fr
X-WR-CALDESC:Events for Municipalité de Lépaud
BEGIN:VEVENT
DTSTART;TZID=UTC+1:20200410T133000
DTEND;TZID=UTC+1:20200414T140000
DTSTAMP:20260422T030511
CREATED:20200208T093214Z
LAST-MODIFIED:20200208T093214Z
UID:14096-1586525400-1586872800@www.lepaud.fr
SUMMARY:Salle polyvalente réservée
DESCRIPTION:
URL:http://www.lepaud.fr/agenda/salle-polyvalente-reservee-11/
CATEGORIES:Salle polyvalente réservée
END:VEVENT
END:VCALENDAR