BEGIN:VCALENDAR
VERSION:2.0
PRODID:-//Municipalité de Lépaud - ECPv4.4.5//NONSGML v1.0//EN
CALSCALE:GREGORIAN
METHOD:PUBLISH
X-WR-CALNAME:Municipalité de Lépaud
X-ORIGINAL-URL:http://www.lepaud.fr
X-WR-CALDESC:Events for Municipalité de Lépaud
BEGIN:VEVENT
DTSTART;TZID=UTC+1:20200514T140000
DTEND;TZID=UTC+1:20200514T200000
DTSTAMP:20260422T045815
CREATED:20200208T093334Z
LAST-MODIFIED:20200208T093334Z
UID:14098-1589464800-1589486400@www.lepaud.fr
SUMMARY:Salle polyvalente réservée
DESCRIPTION:
URL:http://www.lepaud.fr/agenda/salle-polyvalente-reservee-12/
LOCATION:11 Grand'rue\, Lépaud\, 23170\, France
CATEGORIES:Salle polyvalente réservée
END:VEVENT
END:VCALENDAR