BEGIN:VCALENDAR
VERSION:2.0
PRODID:-//Municipalité de Lépaud - ECPv4.4.5//NONSGML v1.0//EN
CALSCALE:GREGORIAN
METHOD:PUBLISH
X-WR-CALNAME:Municipalité de Lépaud
X-ORIGINAL-URL:http://www.lepaud.fr
X-WR-CALDESC:Events for Municipalité de Lépaud
BEGIN:VEVENT
DTSTART;TZID=UTC+1:20200813T140000
DTEND;TZID=UTC+1:20200813T200000
DTSTAMP:20260422T103758
CREATED:20200208T093735Z
LAST-MODIFIED:20200208T093735Z
UID:14105-1597327200-1597348800@www.lepaud.fr
SUMMARY:Salle polyvalente réservée
DESCRIPTION:
URL:http://www.lepaud.fr/agenda/salle-polyvalente-reservee-14/
LOCATION:11 Grand'rue\, Lépaud\, 23170\, France
CATEGORIES:Salle polyvalente réservée
END:VEVENT
END:VCALENDAR