BEGIN:VCALENDAR
VERSION:2.0
PRODID:-//Municipalité de Lépaud - ECPv4.4.5//NONSGML v1.0//EN
CALSCALE:GREGORIAN
METHOD:PUBLISH
X-WR-CALNAME:Municipalité de Lépaud
X-ORIGINAL-URL:http://www.lepaud.fr
X-WR-CALDESC:Events for Municipalité de Lépaud
BEGIN:VEVENT
DTSTART;TZID=UTC+1:20220715T133000
DTEND;TZID=UTC+1:20220718T133000
DTSTAMP:20260425T215927
CREATED:20220519T090411Z
LAST-MODIFIED:20220519T090411Z
UID:14193-1657891800-1658151000@www.lepaud.fr
SUMMARY:Salle polyvalente réservée
DESCRIPTION:
URL:http://www.lepaud.fr/agenda/salle-polyvalente-reservee-18/
CATEGORIES:Salle polyvalente réservée
END:VEVENT
END:VCALENDAR