BEGIN:VCALENDAR
VERSION:2.0
PRODID:-//Municipalité de Lépaud - ECPv4.4.5//NONSGML v1.0//EN
CALSCALE:GREGORIAN
METHOD:PUBLISH
X-WR-CALNAME:Municipalité de Lépaud
X-ORIGINAL-URL:http://www.lepaud.fr
X-WR-CALDESC:Events for Municipalité de Lépaud
BEGIN:VEVENT
DTSTART;TZID=UTC+1:20230225T203000
DTEND;TZID=UTC+1:20230225T233000
DTSTAMP:20260425T203821
CREATED:20230302T090008Z
LAST-MODIFIED:20230302T090008Z
UID:14218-1677357000-1677367800@www.lepaud.fr
SUMMARY:Soirée Choucroute
DESCRIPTION:L'ACCA organise une soirée Choucroute à la salle polyvalente le samedi 25 février 2023 à 20h30\n\nMenu : Assiette d'accueil\, Choucroute garnie\, Fromage\, Dessert\, Café. Ambiance musicale\n\nRéservations auprès des membres du bureau ou tél 06 98 95 11 13 avant le 18 février\n\nTarif : 20€ par personne\, 1/2 tarif pour les enfants de 6 à 12 ans.
URL:http://www.lepaud.fr/agenda/soiree-choucroute/
LOCATION:11 Grand'rue\, Lépaud\, 23170\, France
CATEGORIES:Repas
END:VEVENT
END:VCALENDAR